BEGIN:VCALENDAR
VERSION:2.0
PRODID:-//ChamberMaster//Event Calendar 2.0//EN
METHOD:PUBLISH
X-PUBLISHED-TTL:P3D
REFRESH-INTERVAL:P3D
CALSCALE:GREGORIAN
BEGIN:VEVENT
DTSTART:20121103T000000Z
DTEND:20121103T020000Z
X-MICROSOFT-CDO-ALLDAYEVENT:FALSE
SUMMARY:MN Starwatch with Mike Lynch
DESCRIPTION:Join WCCO Radio Meteorologist Mike Lynch to watch the great celestial show in the skies over Carpenter Nature Center. Dress appropriately for the weather and bring a lawn chair to make yourself comfy.  Recommended for ages 8 and up
X-ALT-DESC;FMTTYPE=text/html:<span style="font-family: arial"><span style="font-size: 11px">Join WCCO Radio Meteorologist Mike Lynch to watch the great celestial show in the skies over Carpenter Nature Center. Dress appropriately for the weather and bring a lawn chair to make yourself comfy.&nbsp\; Recommended for ages 8 and up</span></span><span _fck_bookmark="1" style="display: none">&nbsp\;</span>
LOCATION:Carpenter St. Croix Valley Nature Center 12805 St. Croix Tr S Hastings MN 55033
UID:e.606.113347
SEQUENCE:3
DTSTAMP:20260419T215437Z
URL:https://www.hastingsmn.org/events/details/mn-starwatch-with-mike-lynch-11-02-2012-113347
END:VEVENT

END:VCALENDAR
