BEGIN:VCALENDAR
VERSION:2.0
PRODID:-//ChamberMaster//Event Calendar 2.0//EN
METHOD:PUBLISH
X-PUBLISHED-TTL:P3D
REFRESH-INTERVAL:P3D
CALSCALE:GREGORIAN
BEGIN:VEVENT
DTSTART:20110416T010000Z
DTEND:20110416T030000Z
X-MICROSOFT-CDO-ALLDAYEVENT:FALSE
SUMMARY:MN Starwatch with Mike Lynch
DESCRIPTION:Join WCCO Radio Meteorologist Mike Lynch to watch the great celestial show in the skies over Carpenter Nature Center. This night with the stars\, constellations\, planets\, star clusters\, galaxies\, and nebulae starts off with an indoor orientation followed by quality time outside. Get to know the constellations like The Big Bear\, Cassiopeia\, Orion and his gang\, and some of the great stories behind them. We'll also use large reflecting telescopes for close up views of the planets\, as well as getting close and personal with star clusters\, nebulae\, galaxies and other wonders in our early spring skies. You'll get a great handout and package with user-friendly star maps and constellation charts maps\, websites\, a telescope-buying guide\, and more! Dress appropriately for the weather and bring a lawn chair to make yourself comfy.  Recommended for ages 8 and up
X-ALT-DESC;FMTTYPE=text/html:<span style="font-family: arial"><span style="font-size: 11px">Join WCCO Radio Meteorologist Mike Lynch to watch the great celestial show in the skies over Carpenter Nature Center. This night with the stars\, constellations\, planets\, star clusters\, galaxies\, and nebulae starts off with an indoor orientation followed by quality time outside. Get to know the constellations like The Big Bear\, Cassiopeia\, Orion and his gang\, and some of the great stories behind them. We&rsquo\;ll also use large reflecting telescopes for close up views of the planets\, as well as getting close and personal with star clusters\, nebulae\, galaxies and other wonders in our early spring skies. You&rsquo\;ll get a great handout and package with user-friendly star maps and constellation charts maps\, websites\, a telescope-buying guide\, and more! Dress appropriately for the weather and bring a lawn chair to make yourself comfy.&nbsp\; Recommended for ages 8 and up</span></span><span _fck_bookmark="1" style="display: none">&nbsp\;</span>
LOCATION:Carpenter St. Croix Valley Nature Center 12805 St. Croix Tr S Hastings MN 55033
UID:e.606.112022
SEQUENCE:3
DTSTAMP:20260421T080201Z
URL:https://www.hastingsmn.org/events/details/mn-starwatch-with-mike-lynch-04-15-2011-112022
END:VEVENT

END:VCALENDAR
