BEGIN:VCALENDAR
VERSION:2.0
PRODID:-//ChamberMaster//Event Calendar 2.0//EN
METHOD:PUBLISH
X-PUBLISHED-TTL:P3D
REFRESH-INTERVAL:P3D
CALSCALE:GREGORIAN
BEGIN:VEVENT
DTSTART:20100622T133000Z
DTEND:20100622T220000Z
X-MICROSOFT-CDO-ALLDAYEVENT:FALSE
SUMMARY:MN SNAP Clinic at Braveheart Rescue
DESCRIPTION:The MN Spay and Neuter Assistance Program (SNAP) is holding a clinic at Braveheart Rescue in Hastings on June 22 starting at 8:30 AM. This clinic offers low cost spays and neuters for dogs\, cats and rabbits for families on assistance or under a certain household income. Please visit www.mnsnap.org to register your pet and see if you meet the criteria.
X-ALT-DESC;FMTTYPE=text/html:The MN Spay and Neuter Assistance Program (SNAP) is holding a clinic at Braveheart Rescue in Hastings on June 22 starting at 8:30 AM. This clinic offers low cost spays and neuters for dogs\, cats and rabbits for families on assistance or under a certain household income. Please visit www.mnsnap.org to register your pet and see if you meet the criteria.
LOCATION:Braveheart Rescue\, 12745 E 190th St.\, Hastings\, MN 55033
UID:e.606.111592
SEQUENCE:3
DTSTAMP:20260425T153721Z
URL:https://www.hastingsmn.org/events/details/mn-snap-clinic-at-braveheart-rescue-06-22-2010-111592
END:VEVENT

END:VCALENDAR
