BEGIN:VCALENDAR
VERSION:2.0
PRODID:-//ChamberMaster//Event Calendar 2.0//EN
METHOD:PUBLISH
X-PUBLISHED-TTL:P3D
REFRESH-INTERVAL:P3D
CALSCALE:GREGORIAN
BEGIN:VEVENT
DTSTART:20100914T133000Z
DTEND:20100914T220000Z
X-MICROSOFT-CDO-ALLDAYEVENT:FALSE
SUMMARY:MN SNAP at Braveheart Rescue
DESCRIPTION:MN SNAP is a low cost spay and neuter program for cats\, dogs and rabbits. There are income requirements to qualify for this service.  Contact the MN SNAP office or visit their web site for details. Their mobile unit will be at Braveheart Rescue in Hastings on Tuesday\, Sept. 14. Drop off your pet between 8 and 8:30 AM and pick up later that same day.
X-ALT-DESC;FMTTYPE=text/html:MN SNAP is a low cost spay and neuter program for cats\, dogs and rabbits. There are income requirements to qualify for this service.  Contact the MN SNAP office or visit their web site for details. Their mobile unit will be at Braveheart Rescue in Hastings on Tuesday\, Sept. 14. Drop off your pet between 8 and 8:30 AM and pick up later that same day.
LOCATION:Braveheart Rescue\, 12745 190th St E\, Hastings\, MN
UID:e.606.111952
SEQUENCE:3
DTSTAMP:20260425T111633Z
URL:https://www.hastingsmn.org/events/details/mn-snap-at-braveheart-rescue-09-14-2010-111952
END:VEVENT

END:VCALENDAR
