BEGIN:VCALENDAR
VERSION:2.0
PRODID:-//ChamberMaster//Event Calendar 2.0//EN
METHOD:PUBLISH
X-PUBLISHED-TTL:P3D
REFRESH-INTERVAL:P3D
CALSCALE:GREGORIAN
BEGIN:VEVENT
DTSTART:20100814T013000Z
DTEND:20100813T220000Z
X-MICROSOFT-CDO-ALLDAYEVENT:FALSE
SUMMARY:MN SNAP at Braveheart Rescue
DESCRIPTION:MN SNAP\n\nMobile Low Cost Spay and Neuter
X-ALT-DESC;FMTTYPE=text/html:MN SNAP\n<br>Mobile Low Cost Spay and Neuter\n<br>
LOCATION:Braveheart Rescue 12745 190th St E
UID:e.606.111956
SEQUENCE:3
DTSTAMP:20260425T123749Z
URL:https://www.hastingsmn.org/events/details/mn-snap-at-braveheart-rescue-08-13-2010-111956
END:VEVENT

END:VCALENDAR
