BEGIN:VCALENDAR
VERSION:2.0
PRODID:-//ChamberMaster//Event Calendar 2.0//EN
METHOD:PUBLISH
X-PUBLISHED-TTL:P3D
REFRESH-INTERVAL:P3D
CALSCALE:GREGORIAN
BEGIN:VEVENT
DTSTART:20100612T130000Z
DTEND:20100612T160000Z
X-MICROSOFT-CDO-ALLDAYEVENT:FALSE
SUMMARY:MN Amber Alert
DESCRIPTION:Motorcycle Run and Car Show for abducted children\, the greatest enemy is time.. their greatest hope is you.  Breakfast and Dinner.
X-ALT-DESC;FMTTYPE=text/html:<div>Motorcycle&nbsp\;Run&nbsp\;and Car Show&nbsp\;for abducted children\, the greatest enemy is time.. their greatest hope is you.&nbsp\; Breakfast and Dinner.&nbsp\;</div>
LOCATION:The Point Restaurant12378 Pt Douglas Dr SHastings\, MN 55033
UID:e.606.111581
SEQUENCE:3
DTSTAMP:20260425T153420Z
URL:https://www.hastingsmn.org/events/details/mn-amber-alert-06-12-2010-111581
END:VEVENT

END:VCALENDAR
