BEGIN:VCALENDAR
VERSION:2.0
PRODID:-//ChamberMaster//Event Calendar 2.0//EN
METHOD:PUBLISH
X-PUBLISHED-TTL:P3D
REFRESH-INTERVAL:P3D
CALSCALE:GREGORIAN
BEGIN:VEVENT
DTSTART:20110513T000000Z
DTEND:20110513T013000Z
X-MICROSOFT-CDO-ALLDAYEVENT:FALSE
SUMMARY:Military Youth and Families
DESCRIPTION:May 12th\, Thursday\, 7 p.m.\, Open Community BTYR Meeting\, Nelson Lucking American Legion Post 47\, 50 Sibley St.\, Hastings. Support Our Youth & Families. Members of the Minnesota Beyond the Yellow Ribbon Youth Programs\, Operation Military Kids to include Hidden Heroes\, Childcare Resource and Referral\, uniformed military programs personnel and a Teen Panel member will provide an overview of the Minnesota National Guard Youth Programs. This meeting is dedicated to our military parents and youth. Invite is open to other community representatives and anyone can benefit from this information\, especially citizens\, educators\, civic organizations\, businesses and employers.
X-ALT-DESC;FMTTYPE=text/html:May 12th\, Thursday\, 7 p.m.\, Open Community BTYR Meeting\, Nelson Lucking American Legion Post 47\, 50 Sibley St.\, Hastings. Support Our Youth &amp\; Families. Members of the Minnesota Beyond the Yellow Ribbon Youth Programs\, Operation Military Kids to include Hidden Heroes\, Childcare Resource and Referral\, uniformed military programs personnel and a Teen Panel member will provide an overview of the Minnesota National Guard Youth Programs. This meeting is dedicated to our military parents and youth. Invite is open to other community representatives and anyone can benefit from this information\, especially citizens\, educators\, civic organizations\, businesses and employers.\n<br>
LOCATION:Nelson Lucking American Legion Post 47\, 50 Sibley St.\, Hastings\, MN
UID:e.606.112273
SEQUENCE:3
DTSTAMP:20260421T043935Z
URL:https://www.hastingsmn.org/events/details/military-youth-and-families-05-12-2011-112273
END:VEVENT

END:VCALENDAR
