BEGIN:VCALENDAR
VERSION:2.0
PRODID:-//ChamberMaster//Event Calendar 2.0//EN
METHOD:PUBLISH
X-PUBLISHED-TTL:P3D
REFRESH-INTERVAL:P3D
CALSCALE:GREGORIAN
BEGIN:VEVENT
DTSTART:20130302T234500Z
DTEND:20130303T010000Z
X-MICROSOFT-CDO-ALLDAYEVENT:FALSE
SUMMARY:Military/Veterans OPen Skate Night
DESCRIPTION:Open to the Public with a monetary or non-perishable food item to Hastings Family Services during Minnesota FoodShare Month\, www.mnfoodsharegmcc.org.\n\n\n\nSponsored by the City of Hastings\, Parks and Recreation\, Civic Arena\, with collaboration of Defending the Blue Line and the Yellow Ribbon Network.
X-ALT-DESC;FMTTYPE=text/html:Open to the Public with a monetary or non-perishable food item to Hastings Family Services during Minnesota FoodShare Month\, <a href="http://www.mnfoodsharegmcc.org">www.mnfoodsharegmcc.org</a>.<br />\n<br />\nSponsored by the City of Hastings\, Parks and Recreation\, Civic Arena\, with collaboration of Defending the Blue Line and the Yellow Ribbon Network.
LOCATION:Hastings Civic Arena 2801 Redwing Blvd Hastings
UID:e.606.113768
SEQUENCE:3
DTSTAMP:20260419T131438Z
URL:https://www.hastingsmn.org/events/details/military-veterans-open-skate-night-03-02-2013-113768
END:VEVENT

END:VCALENDAR
