BEGIN:VCALENDAR
VERSION:2.0
PRODID:-//ChamberMaster//Event Calendar 2.0//EN
METHOD:PUBLISH
X-PUBLISHED-TTL:P3D
REFRESH-INTERVAL:P3D
CALSCALE:GREGORIAN
BEGIN:VEVENT
DTSTART:20130302T234500Z
DTEND:20130303T010000Z
X-MICROSOFT-CDO-ALLDAYEVENT:FALSE
SUMMARY:Military/Veteran Open Skate Night
DESCRIPTION:Military/Veteran Open Skate Night.  Open to the public with a monetary or non-perishable food item donation to Hastings Family Services during Minnesota FoodShare Month\, www.mnfoodsharegmcc.org.  Sponsored by the City of Hastings\, Parks and Recreation\, Civic Arena with collaboration of the Minnesota National Guard and Defending the Blue Line.
X-ALT-DESC;FMTTYPE=text/html:<p>\n	Military/Veteran Open Skate Night.&nbsp\; Open to the public with a monetary or non-perishable food item donation to Hastings Family Services during Minnesota FoodShare Month\, www.mnfoodsharegmcc.org.&nbsp\; Sponsored by the City of Hastings\, Parks and Recreation\, Civic Arena with collaboration of the Minnesota National Guard and Defending the Blue Line.</p>\n
LOCATION:Hastings Civic Arena 2801 Red Wing Blvd Hastings\, MN
UID:e.606.113782
SEQUENCE:3
DTSTAMP:20260419T131413Z
URL:https://www.hastingsmn.org/events/details/military-veteran-open-skate-night-03-02-2013-113782
END:VEVENT

END:VCALENDAR
