BEGIN:VCALENDAR
VERSION:2.0
PRODID:-//ChamberMaster//Event Calendar 2.0//EN
METHOD:PUBLISH
X-PUBLISHED-TTL:P3D
REFRESH-INTERVAL:P3D
CALSCALE:GREGORIAN
BEGIN:VEVENT
DTSTART;VALUE=DATE:20110507
DTEND;VALUE=DATE:20110508
TRANSP:TRANSPARENT
X-MICROSOFT-CDO-ALLDAYEVENT:TRUE
SUMMARY:Military Mother/Grandmother Luncheon
DESCRIPTION:May 7th\, Saturday\, 11:30 a.m.\, Military Mother/Grandmother Luncheon\, St Michael's Catholic Church\, Farmington. This special Luncheon will honor mothers and grandmothers of currently serving military. Pamper stations\; prizes and an elegant meal will be hosted by Dakota County Yellow Ribbon Networks. Come and meet other mothers and grandmothers\, pass it along\, it truly is a wonderful\, magical day and an opportunity to honor those who have raised our heroes and enjoy some pamper time!  We are also looking for volunteers to help set up\, serve\, valet park and clean up so let me know if you can help! Thank you all for your wonderful support! For further information or to volunteer contact Annette Kuyper at (651) 460-2248 or visit website http://farmingtonw2c.org/
X-ALT-DESC;FMTTYPE=text/html:May 7th\, Saturday\, 11:30 a.m.\, Military Mother/Grandmother Luncheon\, St Michael's Catholic Church\, Farmington. This special Luncheon will honor mothers and grandmothers of currently serving military. Pamper stations\; prizes and an elegant meal will be hosted by Dakota County Yellow Ribbon Networks. Come and meet other mothers and grandmothers\, pass it along\, it truly is a wonderful\, magical day and an opportunity to honor those who have raised our heroes and enjoy some pamper time!  We are also looking for volunteers to help set up\, serve\, valet park and clean up so let me know if you can help! Thank you all for your wonderful support! For further information or to volunteer contact Annette Kuyper at (651) 460-2248 or visit website http://farmingtonw2c.org/
LOCATION:St Michael's Catholic Church\, 22120 Denmark Ave\, Farmington\, MN
UID:e.606.112274
SEQUENCE:3
DTSTAMP:20260421T043937Z
URL:https://www.hastingsmn.org/events/details/military-mother-grandmother-luncheon-05-07-2011-112274
END:VEVENT

END:VCALENDAR
