BEGIN:VCALENDAR
VERSION:2.0
PRODID:-//ChamberMaster//Event Calendar 2.0//EN
METHOD:PUBLISH
X-PUBLISHED-TTL:P3D
REFRESH-INTERVAL:P3D
CALSCALE:GREGORIAN
BEGIN:VEVENT
DTSTART:20100522T170000Z
DTEND:20100522T210000Z
X-MICROSOFT-CDO-ALLDAYEVENT:FALSE
SUMMARY:Military Family Picnic
DESCRIPTION:Beyond the Yellow Ribbon - Annual picnic and sports camp for military families. Volunteers needed.  Register online.
X-ALT-DESC;FMTTYPE=text/html:<div>Beyond the Yellow Ribbon - Annual picnic and sports camp for military families.&nbsp\;</div><div>Volunteers needed.&nbsp\; Register online.&nbsp\;</div>
LOCATION:Dakota County FairgroundsFarmington\, MN
UID:e.606.111578
SEQUENCE:3
DTSTAMP:20260425T170653Z
URL:https://www.hastingsmn.org/events/details/military-family-picnic-05-22-2010-111578
END:VEVENT

END:VCALENDAR
