BEGIN:VCALENDAR
VERSION:2.0
PRODID:-//ChamberMaster//Event Calendar 2.0//EN
METHOD:PUBLISH
X-PUBLISHED-TTL:P3D
REFRESH-INTERVAL:P3D
CALSCALE:GREGORIAN
BEGIN:VEVENT
DTSTART:20110521T170000Z
DTEND:20110521T210000Z
X-MICROSOFT-CDO-ALLDAYEVENT:FALSE
SUMMARY:Military Family Picnic
DESCRIPTION:Beyond the Yellow Ribbon - Annual picnic and sports camp for military families hosted by Daota County yellow Ribbon networks.\n\n	\n\n	Volunteers needed.  Register online.
X-ALT-DESC;FMTTYPE=text/html:<div>\n	Beyond the Yellow Ribbon - Annual picnic and sports camp for military families hosted by Daota County yellow Ribbon networks.</div>\n<div>\n	<br />\n	Volunteers needed.&nbsp\; Register online.&nbsp\;</div>\n
LOCATION:Dakota County FairgroundsFarmington\, MN
UID:e.606.112268
SEQUENCE:3
DTSTAMP:20260421T043520Z
URL:https://www.hastingsmn.org/events/details/military-family-picnic-05-21-2011-112268
END:VEVENT

END:VCALENDAR
