BEGIN:VCALENDAR
VERSION:2.0
PRODID:-//ChamberMaster//Event Calendar 2.0//EN
METHOD:PUBLISH
X-PUBLISHED-TTL:P3D
REFRESH-INTERVAL:P3D
CALSCALE:GREGORIAN
BEGIN:VEVENT
DTSTART:20110416T180000Z
DTEND:20110416T210000Z
X-MICROSOFT-CDO-ALLDAYEVENT:FALSE
SUMMARY:Military Family Picnic
DESCRIPTION:Beyond the Yellow Ribbon - Annual picnic and sports camp for military families sponsored by the Hastings High School Military Family Support Group\, Hastings Beyond The Yellow Ribbon\, United Way of Hastings and the Minnesota Army National Guard.\n\n	Volunteers needed.
X-ALT-DESC;FMTTYPE=text/html:<div>\n	Beyond the Yellow Ribbon - Annual picnic and sports camp for military families sponsored by the Hastings High School Military Family Support Group\, Hastings Beyond The Yellow Ribbon\, United Way of Hastings and the Minnesota Army National Guard.</div>\n<div>\n	Volunteers needed.&nbsp\;</div>\n
LOCATION:Spring Lake Park Reserve\, Schaar's Bluff Hastings\, MN County Rd 42
UID:e.606.112267
SEQUENCE:3
DTSTAMP:20260421T060957Z
URL:https://www.hastingsmn.org/events/details/military-family-picnic-04-16-2011-112267
END:VEVENT

END:VCALENDAR
