BEGIN:VCALENDAR
VERSION:2.0
PRODID:-//ChamberMaster//Event Calendar 2.0//EN
METHOD:PUBLISH
X-PUBLISHED-TTL:P3D
REFRESH-INTERVAL:P3D
CALSCALE:GREGORIAN
BEGIN:VEVENT
DTSTART:20110327T230000Z
DTEND:20110328T010000Z
X-MICROSOFT-CDO-ALLDAYEVENT:FALSE
SUMMARY:Military Family Buffet
DESCRIPTION:A FREE Chicken and Rib Buffet for Hastings Deployed and Pre Deployed Military Families at The Point\, Hwy 61 & 10. Make reservations with Dean Markuson\, (651) 438-2208 or deanrvnvet@aol.
X-ALT-DESC;FMTTYPE=text/html:A FREE Chicken and Rib Buffet for Hastings Deployed and Pre Deployed Military Families at The Point\, Hwy 61 &amp\; 10. Make reservations with Dean Markuson\, (651) 438-2208 or deanrvnvet@aol.
LOCATION:The Point\, Hwy 61 & 10\, Hastings\, MN
UID:e.606.112256
SEQUENCE:3
DTSTAMP:20260421T094156Z
URL:https://www.hastingsmn.org/events/details/military-family-buffet-03-27-2011-112256
END:VEVENT

END:VCALENDAR
