BEGIN:VCALENDAR
VERSION:2.0
PRODID:-//ChamberMaster//Event Calendar 2.0//EN
METHOD:PUBLISH
X-PUBLISHED-TTL:P3D
REFRESH-INTERVAL:P3D
CALSCALE:GREGORIAN
BEGIN:VEVENT
DTSTART:20110731T163000Z
DTEND:20110801T003000Z
X-MICROSOFT-CDO-ALLDAYEVENT:FALSE
SUMMARY:Midwest Tomato Fest
DESCRIPTION:Twenty thousand pounds of overripe tomatoes have already been ordered\, and they will spray the area with a heavy mist\, and the people will rush in to start  pelting each other with the soft\, squishy red tomatoes. \n\n\n\nIt's a tomato fight! Ever heard of La Tomatina\, the tomato festival in Spain? Well\, here's the Minnesota grown version...Proceeds from the event will be donated to Fight Hunger MN and Dorothy Day.\n\n	The tomato fight itself will last about an hour\, but there's more to the day than simply "getting sauced." The gates open at 11:30 a.m.\, and for the first hour\, the Johnny Holm Band will play live music while people can get lunch from 12 food vendors and prepare for the fight. About 20 minutes before the fight starts\, people will surround the tomato-filled pit\, and the snow guns will start shooting mist. Johnny Holm will give a countdown\, and the fight will begin.\n\n	After\, people will be able to clean up under the snow guns and go back to the concert. The Cool Kids and SerGiO ROCKSTAR will perform\, followed by Shwayze and Cisco Adler.
X-ALT-DESC;FMTTYPE=text/html:Twenty thousand pounds of overripe tomatoes have already been ordered\, and they will spray the area with a heavy mist\, and the people will rush in to start&nbsp\; pelting each other with the soft\, squishy red tomatoes.&nbsp\;<br />\n<br />\nIt&#39\;s a tomato fight! Ever heard of La Tomatina\, the tomato festival in Spain? Well\, here&#39\;s the Minnesota grown version...Proceeds from the event will be donated to Fight Hunger MN and Dorothy Day.\n<p>\n	The tomato fight itself will last about an hour\, but there&rsquo\;s more to the day than simply &ldquo\;getting sauced.&rdquo\; The gates open at 11:30 a.m.\, and for the first hour\, the Johnny Holm Band will play live music while people can get lunch from 12 food vendors and prepare for the fight. About 20 minutes before the fight starts\, people will surround the tomato-filled pit\, and the snow guns will start shooting mist. Johnny Holm will give a countdown\, and the fight will begin.</p>\n<p>\n	After\, people will be able to clean up under the snow guns and go back to the concert. The Cool Kids and SerGiO ROCKSTAR will perform\, followed by Shwayze and Cisco Adler. <span _fck_bookmark="1" style="display: none">&nbsp\;</span></p>\n
LOCATION:Afton Alp Ski & Golf Resort 6600 Peller Ave Hastings MN 55033
UID:e.606.113287
SEQUENCE:3
DTSTAMP:20260421T023133Z
URL:https://www.hastingsmn.org/events/details/midwest-tomato-fest-07-31-2011-113287
END:VEVENT

END:VCALENDAR
