BEGIN:VCALENDAR
VERSION:2.0
PRODID:-//ChamberMaster//Event Calendar 2.0//EN
METHOD:PUBLISH
X-PUBLISHED-TTL:P3D
REFRESH-INTERVAL:P3D
CALSCALE:GREGORIAN
BEGIN:VEVENT
DTSTART:20100531T143000Z
DTEND:20100531T160000Z
X-MICROSOFT-CDO-ALLDAYEVENT:FALSE
SUMMARY:Memorial Day Services
DESCRIPTION:Veteran Memorial Services will be held at various locations throughout Hastings.
X-ALT-DESC;FMTTYPE=text/html:<div>Veteran Memorial Services will be held at various locations&nbsp\;throughout Hastings.&nbsp\;</div><div>&nbsp\;</div>
LOCATION:Minnesota Veteran's Home\, Veteran's Memorial - Roadside Park\, Soldiers and Sailors Cemetery\, Veteran's Memorial - Levee Park
UID:e.606.111580
SEQUENCE:3
DTSTAMP:20260425T170311Z
URL:https://www.hastingsmn.org/events/details/memorial-day-services-05-31-2010-111580
END:VEVENT

END:VCALENDAR
