BEGIN:VCALENDAR
VERSION:2.0
PRODID:-//ChamberMaster//Event Calendar 2.0//EN
METHOD:PUBLISH
X-PUBLISHED-TTL:P3D
REFRESH-INTERVAL:P3D
CALSCALE:GREGORIAN
BEGIN:VEVENT
DTSTART:20110530T140000Z
DTEND:20110530T160000Z
X-MICROSOFT-CDO-ALLDAYEVENT:FALSE
SUMMARY:Memorial Day Services
DESCRIPTION:Veteran Memorial Services will be held at various locations throughout Hastings. Graves will be decorated with Branze Star markers and U.S. Flags. Flag ceremony begins at Minnesota Veteran Home\, 1200 18th St E.\, Hastings at 9:00 a.m.\, followed by a 10 a.m. program at Roadside Park\, approximately 20 minutes after the Roadside program two additional short ceremonies will follow in sequence at Soldiers and sailors Cermetery on 1st St W. & Nininger Rd and at the Levee Veterans Memorial on Ramsey and 1st St. A National moment of remembrance will take plance at 3 p.m.
X-ALT-DESC;FMTTYPE=text/html:<div>\n	Veteran Memorial Services will be held at various locations&nbsp\;throughout Hastings.&nbsp\;Graves will be decorated with Branze Star markers and U.S. Flags. Flag ceremony begins at Minnesota Veteran Home\, 1200 18th St E.\, Hastings at 9:00 a.m.\, followed by a 10 a.m. program at Roadside Park\, approximately 20 minutes after the Roadside program two additional short ceremonies will follow in sequence at Soldiers and sailors Cermetery on 1st St W. &amp\; Nininger Rd and at the Levee Veterans Memorial on Ramsey and 1st St. A National moment of remembrance will take plance at 3 p.m.</div>
LOCATION:Minnesota Veteran's Home\, Veteran's Memorial - Roadside Park\, Soldiers and Sailors Cemetery\, Veteran's Memorial - Levee Park
UID:e.606.112269
SEQUENCE:3
DTSTAMP:20260421T041156Z
URL:https://www.hastingsmn.org/events/details/memorial-day-services-05-30-2011-112269
END:VEVENT

END:VCALENDAR
