BEGIN:VCALENDAR
VERSION:2.0
PRODID:-//ChamberMaster//Event Calendar 2.0//EN
METHOD:PUBLISH
X-PUBLISHED-TTL:P3D
REFRESH-INTERVAL:P3D
CALSCALE:GREGORIAN
BEGIN:VEVENT
DTSTART:20100908T000000Z
DTEND:20100908T010000Z
X-MICROSOFT-CDO-ALLDAYEVENT:FALSE
SUMMARY:Meeting of Friends of LeDuc of Historic Hastings
DESCRIPTION:Friends of LeDuc of Historic Hastings\, business meeting at 7 p.m. followed by a presentation by Heidi Langenfeld on Current Research and specifically dealing with Ignatius Donnelly of Nininger.
X-ALT-DESC;FMTTYPE=text/html:Friends of LeDuc of Historic Hastings\, business meeting at 7 p.m. followed by a presentation by Heidi Langenfeld on Current Research and specifically dealing with Ignatius Donnelly of Nininger.
LOCATION:LeDuc Historic Estate Estate
UID:e.606.111513
SEQUENCE:3
DTSTAMP:20260425T111821Z
URL:https://www.hastingsmn.org/events/details/meeting-of-friends-of-leduc-of-historic-hastings-09-07-2010-111513
END:VEVENT

END:VCALENDAR
