BEGIN:VCALENDAR
VERSION:2.0
PRODID:-//ChamberMaster//Event Calendar 2.0//EN
METHOD:PUBLISH
X-PUBLISHED-TTL:P3D
REFRESH-INTERVAL:P3D
CALSCALE:GREGORIAN
BEGIN:VEVENT
DTSTART:20100512T000000Z
DTEND:20100512T010000Z
X-MICROSOFT-CDO-ALLDAYEVENT:FALSE
SUMMARY:Meeting of Friends of LeDuc of Historic Hastings
DESCRIPTION:Members & visitors invited to attend 7 p.m. meeting of Friends of LeDuc of Historic Hastings on 05/11/20010.  Speaker following short business meeting is Marion Hvistendahl of Northfield who will do an impersonation of Lydia Pnikham and will also speak about 19th Century medicine.
X-ALT-DESC;FMTTYPE=text/html:Members &amp\; visitors invited to attend 7 p.m. meeting of Friends of LeDuc of Historic Hastings on 05/11/20010.  Speaker following short business meeting is Marion Hvistendahl of Northfield who will do an impersonation of Lydia Pnikham and will also speak about 19th Century medicine.
LOCATION:LeDuc Historic Estate
UID:e.606.111512
SEQUENCE:3
DTSTAMP:20260425T170854Z
URL:https://www.hastingsmn.org/events/details/meeting-of-friends-of-leduc-of-historic-hastings-05-11-2010-111512
END:VEVENT

END:VCALENDAR
