BEGIN:VCALENDAR
VERSION:2.0
PRODID:-//ChamberMaster//Event Calendar 2.0//EN
METHOD:PUBLISH
X-PUBLISHED-TTL:P3D
REFRESH-INTERVAL:P3D
CALSCALE:GREGORIAN
BEGIN:VEVENT
DTSTART:20100414T000000Z
DTEND:20100414T010000Z
X-MICROSOFT-CDO-ALLDAYEVENT:FALSE
SUMMARY:Meeting of Friends of LeDuc of Historic Hastings
DESCRIPTION:Friends of LeDuc of Historic Hastings monthly meeting.  Business meeting as 7 p.m. followed by speaker\, Bill Wittenbreer\, Public Services Librarian at Augsburg College\, on the topic\, "Art History in Minnesota in the 19th Century."   Mr. Wittenbreer will speak particularly on the work of Alice LeDuc and other Hastings artists of that era.
X-ALT-DESC;FMTTYPE=text/html:Friends of LeDuc of Historic Hastings monthly meeting.  Business meeting as 7 p.m. followed by speaker\, Bill Wittenbreer\, Public Services Librarian at Augsburg College\, on the topic\, "Art History in Minnesota in the 19th Century."   Mr. Wittenbreer will speak particularly on the work of Alice LeDuc and other Hastings artists of that era. 
LOCATION:LeDuc Historic Estate
UID:e.606.111511
SEQUENCE:3
DTSTAMP:20260425T183518Z
URL:https://www.hastingsmn.org/events/details/meeting-of-friends-of-leduc-of-historic-hastings-04-13-2010-111511
END:VEVENT

END:VCALENDAR
