BEGIN:VCALENDAR
VERSION:2.0
PRODID:-//ChamberMaster//Event Calendar 2.0//EN
METHOD:PUBLISH
X-PUBLISHED-TTL:P3D
REFRESH-INTERVAL:P3D
CALSCALE:GREGORIAN
BEGIN:VEVENT
DTSTART;VALUE=DATE:20120303
DTEND;VALUE=DATE:20120305
TRANSP:TRANSPARENT
X-MICROSOFT-CDO-ALLDAYEVENT:TRUE
SUMMARY:Masters of the Sky - Owls\, Eagles and Falcons..Oh My!
DESCRIPTION:Owls\, Eagles and Falcons  Oh MY!  The staff and birds from the World Bird Sanctuary will be presenting "Masters of the Sky" programs at Carpenter Nature Center.  If you have attended these programs in the past you know that they are awe-inspiring and educational. The birds of prey are breath-taking\, especially those that fly over the audience. You also know that these programs sell out quickly and each year the programs are different. This year the ghostly Barn Owl will return and new raptors include an Egyptian Vulture and an Australian Wedge-tailed Eagle. Programs are one hour long and begin at 11 a.m.\, 1 p.m. and 3 p.m. Ticket prices are $10 per person or $7 for 'Friends of CNC'. To RSVP please call the main office at 651-437-4359 or send an email to Jennifer@carpenternaturecenter.org
X-ALT-DESC;FMTTYPE=text/html:<p class="ecxMsoNormal">\n	<span style="font-size: 11px"><span style="font-family: verdana"><span style="color: black"><b><font color="black"><span lang="EN" style="color: black\; font-weight: bold">Owls\, Eagles and Falcons &hellip\;Oh MY!&nbsp\;</span></font><font color="black"><span lang="EN" style="color: black\; font-weight: bold"> </span></font></b><font color="black"><span lang="EN" style="color: black">The staff and birds from the World Bird Sanctuary will be presenting &quot\;Masters of the Sky&quot\; programs at Carpenter Nature Center. &nbsp\;If you have attended these programs in the past you know that they are awe-inspiring and educational. The birds of prey are breath-taking\, especially those that fly over the audience. You also know that these programs&nbsp\;sell out quickly and each year the programs are different. This year the&nbsp\;ghostly Barn Owl will return and new raptors include&nbsp\;an Egyptian Vulture and an Australian Wedge-tailed Eagle.&nbsp\;Programs are one hour long and begin at 11 a.m.\, 1 p.m. and 3 p.m. Ticket prices are $10 per person or $7 for&nbsp\;&lsquo\;Friends of CNC&rsquo\;.&nbsp\;To RSVP please call the main office at 651-437-4359 or send an email to <a href="mailto:Jennifer@carpenternaturecenter.org" title="mailto:Jennifer@carpenternaturecenter.org&#10\;blocked::mailto:Jennifer@carpenternaturecenter.org&#10\;mailto:Jennifer@carpenternaturecenter.org">Jennifer@carpenternaturecenter.org</a></span></font></span></span></span></p>\n<p class="ecxMsoNormal">\n	<span style="font-size: 10px"><span style="font-family: verdana"><span style="color: black"><font color="black"><span lang="EN" style="color: black"></span></font></span></span></span></p>\n<p class="ecxMsoNormal">\n	&nbsp\;</p>\n<p class="ecxMsoNormal">\n	<span style="font-family: verdana"><span style="font-size: 12px"><span style="color: black"><font color="black"><span lang="EN" style="color: black\; font-size: 10pt"></span></font></span></span></span></p>\n<p class="ecxMsoNormal">\n	<span style="font-family: arial"><span style="font-size: 12px"><span style="color: black"><font color="black" face="Arial"><span lang="EN" style="font-family: arial\; color: black\; font-size: 10pt"><span _fck_bookmark="1" style="display: none">&nbsp\;</span></span></font></span></span></span></p>\n
LOCATION:CarpenterSt. Croix Valley Nature Center 12805 St. Croix Tr S Hastings\, MN 55033
UID:e.606.113349
SEQUENCE:3
DTSTAMP:20260420T103424Z
URL:https://www.hastingsmn.org/events/details/masters-of-the-sky-owls-eagles-and-falcons-oh-my-03-03-2012-113349
END:VEVENT

END:VCALENDAR
