BEGIN:VCALENDAR
VERSION:2.0
PRODID:-//ChamberMaster//Event Calendar 2.0//EN
METHOD:PUBLISH
X-PUBLISHED-TTL:P3D
REFRESH-INTERVAL:P3D
CALSCALE:GREGORIAN
BEGIN:VEVENT
DTSTART:20121216T170000Z
DTEND:20121216T220000Z
X-MICROSOFT-CDO-ALLDAYEVENT:FALSE
SUMMARY:Mary T's Cause
DESCRIPTION:A benefit is being planned for Mary T (Pierce/Tobias) to raise\n\n	money to help with her battle against Stage IIIC Colon Cancer.\n\n	Sunday\, December 16\n\n	11 am to 4 pm at the KC Hall in Hastings\n\n	$10 Adults $7 Kids\n\n	Our goal is to help offset the expenses of medical\n\n	treatments\, procedures\, tests and chemotherapy.\n\n	  ENTERTAINMENT BY NICK WERNER\n\n	  SILENT AUCTION WITH THEME BASKETS\n\n	  AND GIFT CERTIFICATES\n\n	  FOOD & CAKE SERVED ALL DAY\n\n	  WALL OF WINE DRAWING\n\n	  CAKE BAKE WALK\n\n	Mary has spent her life caring for others\,\n\n	whether it be through time involved in\n\n	community services\, supporting Katrina\n\n	victims and other calls for help. Through her\n\n	online connections\, her knowledge and caring\n\n	disposition has provided support to people\n\n	across continents. Even through her Caring\n\n	Bridge site\, her journal entries have provided\n\n	education and inspiration to hundreds. She\n\n	has worked over 26 years as a nurse at\n\n	Regina Medical Center\, caring for the sick\,\n\n	injured\, young and old in our community  \n\n	perhaps even you.\n\n	Now it's our privilege to do the care giving.
X-ALT-DESC;FMTTYPE=text/html:<p style="text-align: center">\n	A benefit is being planned for<strong><em><span style="font-size: 14px"> Mary T (Pierce/Tobias) </span></em></strong>to raise<br />\n	money to help with her battle against Stage IIIC Colon Cancer.<br />\n	<span style="font-size: 14px"><u><strong><span style="color: #008000">Sunday\, December 16</span></strong></u></span><br />\n	11 am to 4 pm at the KC Hall in Hastings<br />\n	$10 Adults $7 Kids<br />\n	Our goal is to help offset the expenses of medical<br />\n	treatments\, procedures\, tests and chemotherapy.<br />\n	&bull\;<span style="color: #ff0000"> ENTERTAINMENT BY NICK WERNER<br />\n	&bull\; SILENT AUCTION WITH THEME BASKETS<br />\n	&bull\; AND GIFT CERTIFICATES<br />\n	&bull\; FOOD &amp\; CAKE SERVED ALL DAY<br />\n	&bull\; WALL OF WINE DRAWING<br />\n	&bull\; CAKE BAKE WALK</span><br />\n	<strong><span style="font-size: 16px">Mary </span></strong>has spent her life caring for others\,<br />\n	whether it be through time involved in<br />\n	community services\, supporting Katrina<br />\n	victims and other calls for help. Through her<br />\n	online connections\, her knowledge and caring<br />\n	disposition has provided support to people<br />\n	across continents. Even through her Caring<br />\n	Bridge site\, her journal entries have provided<br />\n	education and inspiration to hundreds. She<br />\n	has worked over 26 years as a nurse at<br />\n	Regina Medical Center\, caring for the sick\,<br />\n	injured\, young and old in our community &ndash\;<br />\n	perhaps even you.<br />\n	Now it&rsquo\;s our privilege to do the care giving.</p>\n
LOCATION:KC Hall in Hastings
UID:e.606.113750
SEQUENCE:3
DTSTAMP:20260419T201520Z
URL:https://www.hastingsmn.org/events/details/mary-t-s-cause-12-16-2012-113750
END:VEVENT

END:VCALENDAR
