BEGIN:VCALENDAR
VERSION:2.0
PRODID:-//ChamberMaster//Event Calendar 2.0//EN
METHOD:PUBLISH
X-PUBLISHED-TTL:P3D
REFRESH-INTERVAL:P3D
CALSCALE:GREGORIAN
BEGIN:VEVENT
DTSTART:20100508T163000Z
DTEND:20100508T193000Z
X-MICROSOFT-CDO-ALLDAYEVENT:FALSE
SUMMARY:Luncheon for Mothers & Grandmothers of Military Service Members
DESCRIPTION:Military Mother and Grandmother Luncheon for current serving military families. This is a collaborated effort of the Dakota County Warrior to Citizen/Beyond the Yellow Ribbon communities and churches. Fun & Pampering. Complimentary Lunch\, Music from teh Red Hat Chorus\, Valet Parking and Prizes.
X-ALT-DESC;FMTTYPE=text/html:<div>Military Mother and Grandmother Luncheon for current serving military families. This is a collaborated effort of the Dakota County Warrior to Citizen/Beyond the Yellow Ribbon communities and churches. Fun &amp\; Pampering.&nbsp\;Complimentary Lunch\, Music from teh Red Hat Chorus\, Valet Parking and Prizes.</div>
LOCATION:St. Michael's Catholic Church22120 Denmark AvenueFarmington\, MN
UID:e.606.111555
SEQUENCE:3
DTSTAMP:20260425T170814Z
URL:https://www.hastingsmn.org/events/details/luncheon-for-mothers-grandmothers-of-military-service-members-05-08-2010-111555
END:VEVENT

END:VCALENDAR
