BEGIN:VCALENDAR
VERSION:2.0
PRODID:-//ChamberMaster//Event Calendar 2.0//EN
METHOD:PUBLISH
X-PUBLISHED-TTL:P3D
REFRESH-INTERVAL:P3D
CALSCALE:GREGORIAN
BEGIN:VEVENT
DTSTART;VALUE=DATE:20110729
DTEND;VALUE=DATE:20110801
TRANSP:TRANSPARENT
X-MICROSOFT-CDO-ALLDAYEVENT:TRUE
SUMMARY:Little Log House Antique Power Show
DESCRIPTION:Music Fest\, parade\, flea market.  Resorted Pioneer Village and Antique Show.
X-ALT-DESC;FMTTYPE=text/html:<span style="font-size: 11pt"><span style="font-family: calibri"><span style="font-size: 10px"><span style="font-family: arial">Music Fest\, parade\, flea market.&nbsp\; Resorted Pioneer Village and Antique Show</span></span>.&nbsp\;&nbsp\;</span></span>
LOCATION:Music Fest\, parade\, flea market. Resorted Pioneer Village and Antique Show.
UID:e.606.112028
SEQUENCE:3
DTSTAMP:20260421T023605Z
URL:https://www.hastingsmn.org/events/details/little-log-house-antique-power-show-07-29-2011-112028
END:VEVENT

END:VCALENDAR
