BEGIN:VCALENDAR
VERSION:2.0
PRODID:-//ChamberMaster//Event Calendar 2.0//EN
METHOD:PUBLISH
X-PUBLISHED-TTL:P3D
REFRESH-INTERVAL:P3D
CALSCALE:GREGORIAN
BEGIN:VEVENT
DTSTART;VALUE=DATE:20120727
DTEND;VALUE=DATE:20120730
TRANSP:TRANSPARENT
X-MICROSOFT-CDO-ALLDAYEVENT:TRUE
SUMMARY:Little Log House Antique Power Show
DESCRIPTION:Resorted Pioneer Village and Antique Power Show.  Music\, antiques\, flea market & crafts.  Living History Demonstrations.  Pancake Breakfast (7 - 9 a.m.) Parade (11 a.m.)
X-ALT-DESC;FMTTYPE=text/html:<span style="font-size: 12px"><span style="font-family: calibri"><span style="font-family: arial">Resorted Pioneer Village and Antique Power Show</span>.&nbsp\;&nbsp\;<span style="font-size: 12px"><span style="font-family: calibri"><span style="font-family: arial">Music\, antiques\,&nbsp\;flea market &amp\; crafts.&nbsp\; Living History Demonstrations.&nbsp\;<span _fck_bookmark="1" style="display: none">&nbsp\;</span></span></span></span></span></span><span style="font-family: arial">Pancake Breakfast (7 - 9 a.m.) Parade (11 a.m.)</span>
LOCATION:Little Log House 21889 Michael Ave Hastings\, MN 55033
UID:e.606.113343
SEQUENCE:3
DTSTAMP:20260420T032716Z
URL:https://www.hastingsmn.org/events/details/little-log-house-antique-power-show-07-27-2012-113343
END:VEVENT

END:VCALENDAR
