BEGIN:VCALENDAR
VERSION:2.0
PRODID:-//ChamberMaster//Event Calendar 2.0//EN
METHOD:PUBLISH
X-PUBLISHED-TTL:P3D
REFRESH-INTERVAL:P3D
CALSCALE:GREGORIAN
BEGIN:VEVENT
DTSTART:20100621T130000Z
DTEND:20100625T170000Z
X-MICROSOFT-CDO-ALLDAYEVENT:FALSE
SUMMARY:Life with the LeDucs - Summer Youth Camp
DESCRIPTION:Imagine life without modern technology!! Students will have an opportunity to experience 19th Century life as the LeDuc children lived it. At this camp students will have a chance to learn about the LeDuc family & house and the Civil War\, make craft projects of the era to take home with them\, churn butter & bake bread over an open fire\, practice writing skills by journaling 7 letter writing. Open to children ages 10-14. Register through Hastings Community Ed. @www.HastingsCommunityEd.com.
X-ALT-DESC;FMTTYPE=text/html:<div>Imagine life without modern technology!! Students will have an opportunity to experience 19th Century life as the LeDuc children lived it. At this camp students will have a chance to learn about the LeDuc family &amp\; house and the Civil War\, make craft projects of the era to take home with them\, churn butter &amp\; bake bread over an open fire\, practice writing skills by journaling 7 letter writing. Open to children ages 10-14. Register through Hastings Community Ed. @www.HastingsCommunityEd.com.</div>
LOCATION:LeDuc Historic Estate\, 1629 Vermillion St.\, Hastings\, MN 55033
UID:e.606.111522
SEQUENCE:3
DTSTAMP:20260425T153722Z
URL:https://www.hastingsmn.org/events/details/life-with-the-leducs-summer-youth-camp-06-21-2010-111522
END:VEVENT

END:VCALENDAR
