BEGIN:VCALENDAR
VERSION:2.0
PRODID:-//ChamberMaster//Event Calendar 2.0//EN
METHOD:PUBLISH
X-PUBLISHED-TTL:P3D
REFRESH-INTERVAL:P3D
CALSCALE:GREGORIAN
BEGIN:VEVENT
DTSTART:20091108T010000Z
DTEND:20091108T030000Z
X-MICROSOFT-CDO-ALLDAYEVENT:FALSE
SUMMARY:Lest We Forget Concert
DESCRIPTION:A concert honoring our military past and present featuring music by Chris Falteisek\, Jodi Peine Husting and Maureen McNeary Sieben.  In conjunction with Beyond the Yellow Ribbon
X-ALT-DESC;FMTTYPE=text/html:<div>A concert honoring our military past and present featuring music by Chris Falteisek\, Jodi Peine Husting and Maureen McNeary Sieben.&nbsp\; In conjunction with Beyond the Yellow Ribbon</div>
LOCATION:St. Elizabeth Ann Seton Catholic Church2035 15th St. EHastings\, MN
UID:e.606.111237
SEQUENCE:3
DTSTAMP:20260426T012449Z
URL:https://www.hastingsmn.org/events/details/lest-we-forget-concert-11-07-2009-111237
END:VEVENT

END:VCALENDAR
