BEGIN:VCALENDAR
VERSION:2.0
PRODID:-//ChamberMaster//Event Calendar 2.0//EN
METHOD:PUBLISH
X-PUBLISHED-TTL:P3D
REFRESH-INTERVAL:P3D
CALSCALE:GREGORIAN
BEGIN:VEVENT
DTSTART:20120818T000000Z
DTEND:20120818T030000Z
X-MICROSOFT-CDO-ALLDAYEVENT:FALSE
SUMMARY:Legends: An Evening with the Music of The Righteous Brothers
DESCRIPTION:Join us for NewBridge Theatre Company's presentation of "Legends: An Evening with the music of The Righteous Brothers".  Their music has dazzled us for the last 40+ years!  Hits like "Unchained Melody"\, "Dream On"\, "Time of my Life" and many more!
X-ALT-DESC;FMTTYPE=text/html:<p>\n	Join us for NewBridge Theatre Company&#39\;s presentation of &quot\;Legends: An Evening with the music of The Righteous Brothers&quot\;.&nbsp\; Their music has dazzled us for the last 40+ years!&nbsp\; Hits like &quot\;Unchained Melody&quot\;\, &quot\;Dream On&quot\;\, &quot\;Time of my Life&quot\; and many more!</p>\n
LOCATION:105 2nd St E\, Hastings\, MN 55033
UID:e.606.113692
SEQUENCE:3
DTSTAMP:20260420T033155Z
URL:https://www.hastingsmn.org/events/details/legends-an-evening-with-the-music-of-the-righteous-brothers-08-17-2012-113692
END:VEVENT

END:VCALENDAR
