BEGIN:VCALENDAR
VERSION:2.0
PRODID:-//ChamberMaster//Event Calendar 2.0//EN
METHOD:PUBLISH
X-PUBLISHED-TTL:P3D
REFRESH-INTERVAL:P3D
CALSCALE:GREGORIAN
BEGIN:VEVENT
DTSTART;VALUE=DATE:20110924
DTEND;VALUE=DATE:20110925
TRANSP:TRANSPARENT
X-MICROSOFT-CDO-ALLDAYEVENT:TRUE
SUMMARY:LeDuc/Simmons Country Market & The Mississippi St. Croix Art Show
DESCRIPTION:The LeDuc/Simmons Country Market & the Mississippi/St. Croix Art Show will take place on Saturday\, September 24\, 10 a.m.-5 p.m.  at the LeDuc Historic Estate.  Friends of LeDuc and Dakota County Historical Society sponsor the country market that features an antique sale\, bake sale\, plant sale\, and produce sale.  The outdoor art show is being organized by the Hastings/Prescott  Area Arts Council.  Visitors will have the opportunity to view and purchase the work of some of the best artists of the area.  Admission to the grounds is free\, but regular tour rates apply for tours of the LeDuc house.
X-ALT-DESC;FMTTYPE=text/html:The LeDuc/Simmons Country Market &amp\; the Mississippi/St. Croix Art Show will take place on Saturday\, September 24\, 10 a.m.-5 p.m. &nbsp\;at the LeDuc Historic Estate. &nbsp\;Friends of LeDuc and Dakota County Historical Society sponsor the country market that features an antique sale\, bake sale\, plant sale\, and produce sale. &nbsp\;The outdoor art show is being organized by the Hastings/Prescott &nbsp\;Area Arts Council. &nbsp\;Visitors will have the opportunity to view and purchase the work of some of the best artists of the area. &nbsp\;Admission to the grounds is free\, but regular tour rates apply for tours of the LeDuc house. &nbsp\; &nbsp\;&nbsp\;
LOCATION:LeDuc Historic Estate 1629 Vermillion Street\, Hastings\, MN 55033
UID:e.606.113298
SEQUENCE:3
DTSTAMP:20260420T205514Z
URL:https://www.hastingsmn.org/events/details/leduc-simmons-country-market-the-mississippi-st-croix-art-show-09-24-2011-113298
END:VEVENT

END:VCALENDAR
