BEGIN:VCALENDAR
VERSION:2.0
PRODID:-//ChamberMaster//Event Calendar 2.0//EN
METHOD:PUBLISH
X-PUBLISHED-TTL:P3D
REFRESH-INTERVAL:P3D
CALSCALE:GREGORIAN
BEGIN:VEVENT
DTSTART;VALUE=DATE:20120922
DTEND;VALUE=DATE:20120923
TRANSP:TRANSPARENT
X-MICROSOFT-CDO-ALLDAYEVENT:TRUE
SUMMARY:LeDuc-Simmons Country Market & Take Me to the River
DESCRIPTION:The LeDuc-Simmons Country Market & Take Me to the River return to the LeDuc Historic Estate on Saturday\, September 22\, 10 a.m.-5 p.m.  Friends of LeDuc of Historic Hastings\, Dakota County Historical Society & Hastings-Prescott Area Arts Council sponsor this events.  Antiques & collectibles will be available in the Simmons Shed and freshly baked goodies & canned goods will be sold by the Friends of LeDuc of Historic Hastings.  Artists & crafters\, sponsored by HPAAC\, will be on hand with their beautiful creations.
X-ALT-DESC;FMTTYPE=text/html:The LeDuc-Simmons Country Market &amp\; Take Me to the River return to the LeDuc Historic Estate on Saturday\, September 22\, 10 a.m.-5 p.m. &nbsp\;Friends of LeDuc of Historic Hastings\, Dakota County Historical Society &amp\; Hastings-Prescott Area Arts Council sponsor this events. &nbsp\;Antiques &amp\; collectibles will be available in the Simmons Shed and freshly baked goodies &amp\; canned goods will be sold by the Friends of LeDuc of Historic Hastings. &nbsp\;Artists &amp\; crafters\, sponsored by HPAAC\, will be on hand with their beautiful creations. &nbsp\;
LOCATION:LeDuc Historic Estate\, 1629 Vermillion Street\, Hastings\, MN
UID:e.606.113695
SEQUENCE:3
DTSTAMP:20260419T235059Z
URL:https://www.hastingsmn.org/events/details/leduc-simmons-country-market-take-me-to-the-river-09-22-2012-113695
END:VEVENT

END:VCALENDAR
