BEGIN:VCALENDAR
VERSION:2.0
PRODID:-//ChamberMaster//Event Calendar 2.0//EN
METHOD:PUBLISH
X-PUBLISHED-TTL:P3D
REFRESH-INTERVAL:P3D
CALSCALE:GREGORIAN
BEGIN:VEVENT
DTSTART:20111001T150000Z
DTEND:20111001T163000Z
X-MICROSOFT-CDO-ALLDAYEVENT:FALSE
SUMMARY:LeDuc Historic Estate - Vermillion Falls Walking Tour
DESCRIPTION:Enjoy the breathtaking beauty of the Vermillion Falls & Vermillion River gorge.  Learn about the early history of Hastings and the milling industry and how it was a part of the lives of the LeDuc Family.  Registration required by calling 651-437-7055.  Avaliable first Saturday of each month\, June-October\, 10 a.m.
X-ALT-DESC;FMTTYPE=text/html:Enjoy the breathtaking beauty of the Vermillion Falls &amp\; Vermillion River gorge. &nbsp\;Learn about the early history of Hastings and the milling industry and how it was a part of the lives of the LeDuc Family. &nbsp\;Registration required by calling 651-437-7055.&nbsp\;&nbsp\;Avaliable first Saturday of each month\, June-October\, 10 a.m. 
LOCATION:LeDuc Historic Estate\, 1629 Vermillion Street\, Hastings\, MN
UID:e.606.113142
SEQUENCE:3
DTSTAMP:20260420T205345Z
URL:https://www.hastingsmn.org/events/details/leduc-historic-estate-vermillion-falls-walking-tour-10-01-2011-113142
END:VEVENT

END:VCALENDAR
