BEGIN:VCALENDAR
VERSION:2.0
PRODID:-//ChamberMaster//Event Calendar 2.0//EN
METHOD:PUBLISH
X-PUBLISHED-TTL:P3D
REFRESH-INTERVAL:P3D
CALSCALE:GREGORIAN
BEGIN:VEVENT
DTSTART:20110525T150000Z
DTEND:20111030T220000Z
X-MICROSOFT-CDO-ALLDAYEVENT:FALSE
SUMMARY:LeDuc Historic Estate Tour
DESCRIPTION:Tours of the Estate will be offered Wednesday through Saturday at 10 and 11:30 a.m. and 1\, 2:30 and 4 p.m. on Sunday. Rates remain the same as last year: Adults\, $6\; Seniors\, $5\; Students ages 6-17 years\, $3\; FREE for members of Dakota County Historical Society\, Military Personnel and Families\, and Children under the age of 5.
X-ALT-DESC;FMTTYPE=text/html:Tours of the Estate will be offered Wednesday through Saturday at 10 and 11:30 a.m. and 1\, 2:30 and 4 p.m. on Sunday. Rates remain the same as last year: Adults\, $6\; Seniors\, $5\; Students ages 6-17 years\, $3\; FREE for members of Dakota County Historical Society\, Military Personnel and Families\, and Children under the age of 5. 
LOCATION:LeDucHistoric Estate\, 1629 Vermillion Street\, Hastings\, MN 55033
UID:e.606.113009
SEQUENCE:3
DTSTAMP:20260420T192340Z
URL:https://www.hastingsmn.org/events/details/leduc-historic-estate-tour-05-25-2011-113009
END:VEVENT

END:VCALENDAR
