BEGIN:VCALENDAR
VERSION:2.0
PRODID:-//ChamberMaster//Event Calendar 2.0//EN
METHOD:PUBLISH
X-PUBLISHED-TTL:P3D
REFRESH-INTERVAL:P3D
CALSCALE:GREGORIAN
BEGIN:VEVENT
DTSTART:20110704T150000Z
DTEND:20110704T220000Z
X-MICROSOFT-CDO-ALLDAYEVENT:FALSE
SUMMARY:LeDuc Historic Estate Open July 4
DESCRIPTION:For the first time since opening ibn 2005\, the LeDuc Historic Estate will be open for tours on the July 4 holiday.  It's a perfect way for families to enjoy celebrating America's freedom.  Visitors will learn about how the LeDuc family celebrated freedom\, their history\, and the history of the house.  Guests will also be able to enjoy the chickens\, the artistic designs of the LeDuc women in the exhibit\, "Modern Interpretations of Historic Design\," and the beautiful landscape of teh woods and gardens.    Tours are at 10 and 11:30 a.m. and 1\, 2:30 & 4 p.m.
X-ALT-DESC;FMTTYPE=text/html:For the first time since opening ibn 2005\, the LeDuc Historic Estate will be open for tours on the July 4 holiday. &nbsp\;It&#39\;s a perfect way for families to enjoy celebrating America&#39\;s freedom. &nbsp\;Visitors will learn about how the LeDuc family celebrated freedom\, their history\, and the history of the house. &nbsp\;Guests will also be able to enjoy the chickens\, the artistic designs of the LeDuc women in the exhibit\, &quot\;Modern Interpretations of Historic Design\,&quot\; and the beautiful landscape of teh woods and gardens. &nbsp\; &nbsp\;Tours are at 10 and 11:30 a.m. and 1\, 2:30 &amp\; 4 p.m.
LOCATION:1629 Vermillion Street Hastings\, MN 55033
UID:e.606.113273
SEQUENCE:3
DTSTAMP:20260421T023355Z
URL:https://www.hastingsmn.org/events/details/leduc-historic-estate-open-july-4-07-04-2011-113273
END:VEVENT

END:VCALENDAR
