BEGIN:VCALENDAR
VERSION:2.0
PRODID:-//ChamberMaster//Event Calendar 2.0//EN
METHOD:PUBLISH
X-PUBLISHED-TTL:P3D
REFRESH-INTERVAL:P3D
CALSCALE:GREGORIAN
BEGIN:VEVENT
DTSTART:20100710T160000Z
DTEND:20100710T180000Z
X-MICROSOFT-CDO-ALLDAYEVENT:FALSE
SUMMARY:LeDuc Historic Estate Open House - ''Cheep'' Entertainment
DESCRIPTION:FREE Open House at the LeDuc Historic Estate to meet the chickens who have newly been introduced to the Estate.  Meet the chicks & the 4-Hers who care for them.  Special refreshments and guests may take a paid tour of the Estate.
X-ALT-DESC;FMTTYPE=text/html:FREE Open House at the LeDuc Historic Estate to meet the chickens who have newly been introduced to the Estate.  Meet the chicks &amp\; the 4-Hers who care for them.  Special refreshments and guests may take a paid tour of the Estate.
LOCATION:LeDuc Historic Estate\, 1629 Vermillion Street\, Hastings\, MN 55033
UID:e.606.111809
SEQUENCE:3
DTSTAMP:20260425T141424Z
URL:https://www.hastingsmn.org/events/details/leduc-historic-estate-open-house-cheep-entertainment-07-10-2010-111809
END:VEVENT

END:VCALENDAR
