BEGIN:VCALENDAR
VERSION:2.0
PRODID:-//ChamberMaster//Event Calendar 2.0//EN
METHOD:PUBLISH
X-PUBLISHED-TTL:P3D
REFRESH-INTERVAL:P3D
CALSCALE:GREGORIAN
BEGIN:VEVENT
DTSTART:20110602T233000Z
DTEND:20110603T013000Z
X-MICROSOFT-CDO-ALLDAYEVENT:FALSE
SUMMARY:LeDuc Book Group
DESCRIPTION:LeDuc Book Group meets the first Thursday of each month\, 6:30 p.m. at the LeDuc Historic Estate library\, 1629 Vermillion Street\, Hastings\, MN.  June  2 book for discussion led by Pleasant Hill Libraria\, Allan Cotter is "Sea Biscuit: An American Legend" by Lauren Hillenbrand.  Free & open to the public.
X-ALT-DESC;FMTTYPE=text/html:LeDuc Book Group meets the first Thursday of each month\, 6:30 p.m. at the LeDuc Historic Estate library\, 1629 Vermillion Street\, Hastings\, MN. &nbsp\;June &nbsp\;2 book for discussion led by Pleasant Hill Libraria\, Allan Cotter is &quot\;Sea Biscuit: An American Legend&quot\; by Lauren Hillenbrand. &nbsp\;Free &amp\; open to the public.
LOCATION:LeDuc Historic Estate\, 1629 Vermillion Street\, Hastings\, MN
UID:e.606.112789
SEQUENCE:3
DTSTAMP:20260421T041103Z
URL:https://www.hastingsmn.org/events/details/leduc-book-group-06-02-2011-112789
END:VEVENT

END:VCALENDAR
