BEGIN:VCALENDAR
VERSION:2.0
PRODID:-//ChamberMaster//Event Calendar 2.0//EN
METHOD:PUBLISH
X-PUBLISHED-TTL:P3D
REFRESH-INTERVAL:P3D
CALSCALE:GREGORIAN
BEGIN:VEVENT
DTSTART;VALUE=DATE:20100506
DTEND;VALUE=DATE:20100507
TRANSP:TRANSPARENT
X-MICROSOFT-CDO-ALLDAYEVENT:TRUE
SUMMARY:LeDuc Book Group
DESCRIPTION:LeDuc Book Group meets on May 6\, 6:30 p.m.  Book discussed will be "The Growing Seasons: an American Boyhood Before the War" by Samuel Hynes.  Members and visitors encouraged to attend this free event.
X-ALT-DESC;FMTTYPE=text/html:LeDuc Book Group meets on May 6\, 6:30 p.m.  Book discussed will be "The Growing Seasons: an American Boyhood Before the War" by Samuel Hynes.  Members and visitors encouraged to attend this free event.
LOCATION:LeDuc Historic Estate
UID:e.606.111571
SEQUENCE:3
DTSTAMP:20260425T170248Z
URL:https://www.hastingsmn.org/events/details/leduc-book-group-05-06-2010-111571
END:VEVENT

END:VCALENDAR
