BEGIN:VCALENDAR
VERSION:2.0
PRODID:-//ChamberMaster//Event Calendar 2.0//EN
METHOD:PUBLISH
X-PUBLISHED-TTL:P3D
REFRESH-INTERVAL:P3D
CALSCALE:GREGORIAN
BEGIN:VEVENT
DTSTART:20100408T233000Z
DTEND:20100409T003000Z
X-MICROSOFT-CDO-ALLDAYEVENT:FALSE
SUMMARY:LeDuc Book Group
DESCRIPTION:LeDuc Book Group meets on April 8 (note date change from April 1.)  Book for discussion:  "Mayflower" by Nathaniel Philbrick\, led by Pleasant Hill Librarian Allan Cotter.  A story of courage\, community\, & war.  A detailed saga of the stark reality of a grim venture by a group of determined people ill-suited for an extremely difficult journey.
X-ALT-DESC;FMTTYPE=text/html:LeDuc Book Group meets on April 8 (note date change from April 1.)  Book for discussion:  "Mayflower" by Nathaniel Philbrick\, led by Pleasant Hill Librarian Allan Cotter.  A story of courage\, community\, &amp\; war.  A detailed saga of the stark reality of a grim venture by a group of determined people ill-suited for an extremely difficult journey. 
LOCATION:LeDuc Historic Estate\, 1629 Vermillion Street\, Hastings\, MN 55033
UID:e.606.111536
SEQUENCE:3
DTSTAMP:20260425T181651Z
URL:https://www.hastingsmn.org/events/details/leduc-book-group-04-08-2010-111536
END:VEVENT

END:VCALENDAR
