BEGIN:VCALENDAR
VERSION:2.0
PRODID:-//ChamberMaster//Event Calendar 2.0//EN
METHOD:PUBLISH
X-PUBLISHED-TTL:P3D
REFRESH-INTERVAL:P3D
CALSCALE:GREGORIAN
BEGIN:VEVENT
DTSTART:20110707T233000Z
DTEND:20110708T013000Z
X-MICROSOFT-CDO-ALLDAYEVENT:FALSE
SUMMARY:LeDuc Book Club
DESCRIPTION:The LeDuc Book Group meets the first Thursday of each month in the library of the LeDuc Historic Estate\, 6:30 p.m.  The July 7 selection is "A River Runs Through It" by Norman Maclean.   Copies of the book are available ateis group is open to all people\, whether or not you have  attended other sessions.
X-ALT-DESC;FMTTYPE=text/html:The LeDuc Book Group meets the first Thursday of each month in the library of the LeDuc Historic Estate\, 6:30 p.m. &nbsp\;The July 7 selection is &quot\;A River Runs Through It&quot\; by Norman Maclean. &nbsp\; Copies of the book are available ateis group is open to all people\, whether or not you have &nbsp\;attended other sessions. &nbsp\;
LOCATION:1629 Vermillion Street Hastings\, MN 55033
UID:e.606.113275
SEQUENCE:3
DTSTAMP:20260421T003812Z
URL:https://www.hastingsmn.org/events/details/leduc-book-club-07-07-2011-113275
END:VEVENT

END:VCALENDAR
