BEGIN:VCALENDAR
VERSION:2.0
PRODID:-//ChamberMaster//Event Calendar 2.0//EN
METHOD:PUBLISH
X-PUBLISHED-TTL:P3D
REFRESH-INTERVAL:P3D
CALSCALE:GREGORIAN
BEGIN:VEVENT
DTSTART:20091017T170000Z
DTEND:20091018T220000Z
X-MICROSOFT-CDO-ALLDAYEVENT:FALSE
SUMMARY:Leaf for Lupus
DESCRIPTION:Jump in giant leaf piles\, take a hayride\, fall crafts\, marshmallow cookout\, kid's tattoos and pumpkin painting (while supplies last).  Parent supervision required.  Proceeds for admission\, concession and raffle ticket sales benefit Lupus Foundation of Minnesota.
X-ALT-DESC;FMTTYPE=text/html:<div>Jump in giant leaf piles\, take a hayride\, fall crafts\, marshmallow cookout\, kid's tattoos and pumpkin painting (while supplies last).&nbsp\; Parent supervision required.&nbsp\; Proceeds for admission\, concession and raffle ticket sales benefit Lupus Foundation of Minnesota.</div>
LOCATION:Hidden Greens Golf Course12977 200th Street EastHastings\, MN
UID:e.606.111223
SEQUENCE:3
DTSTAMP:20260426T025512Z
URL:https://www.hastingsmn.org/events/details/leaf-for-lupus-10-17-2009-111223
END:VEVENT

END:VCALENDAR
