BEGIN:VCALENDAR
VERSION:2.0
PRODID:-//ChamberMaster//Event Calendar 2.0//EN
METHOD:PUBLISH
X-PUBLISHED-TTL:P3D
REFRESH-INTERVAL:P3D
CALSCALE:GREGORIAN
BEGIN:VEVENT
DTSTART:20101016T170000Z
DTEND:20101017T210000Z
X-MICROSOFT-CDO-ALLDAYEVENT:FALSE
SUMMARY:Leaf for Lupus
DESCRIPTION:2nd Annual Leaf for Lupus\n\nJump in the Leaves for a Good Cause!\n\nFamily Friendly Event!\n\nJump in a huge pile of leaves\, enjoy a hayride\, get crazy fair hair\, cookie decorating\, marshmallow cookout and more included for admission.  Plus concession stand\, pumpkins\, and raffle tickets for sale.\n\nHelp raise money for the Lupus Foundation of Minnesota
X-ALT-DESC;FMTTYPE=text/html:2nd Annual Leaf for Lupus\n<br>Jump in the Leaves for a Good Cause!\n<br>Family Friendly Event!\n<br>Jump in a huge pile of leaves\, enjoy a hayride\, get crazy fair hair\, cookie decorating\, marshmallow cookout and more included for admission.  Plus concession stand\, pumpkins\, and raffle tickets for sale.\n<br>Help raise money for the Lupus Foundation of Minnesota
LOCATION:Hidden Greens Golf Course 12977 - 200th Street East Hastings\, MN 55033
UID:e.606.111993
SEQUENCE:3
DTSTAMP:20260425T111350Z
URL:https://www.hastingsmn.org/events/details/leaf-for-lupus-10-16-2010-111993
END:VEVENT

END:VCALENDAR
