BEGIN:VCALENDAR
VERSION:2.0
PRODID:-//ChamberMaster//Event Calendar 2.0//EN
METHOD:PUBLISH
X-PUBLISHED-TTL:P3D
REFRESH-INTERVAL:P3D
CALSCALE:GREGORIAN
BEGIN:VEVENT
DTSTART:20101002T150000Z
DTEND:20101002T163000Z
X-MICROSOFT-CDO-ALLDAYEVENT:FALSE
SUMMARY:Last Walking Tour of the Season of Vermillion Falls Park
DESCRIPTION:Enjoy the last walking tour of the season of Vermillion Falls Park\, which begins at the LeDuc Historic Estate.  Visitors will enjoy the natural beauty of the river and magnificent Vermillion Falls\, plus learn about the milling industry and how it contributed to the history of the City of Hastings.
X-ALT-DESC;FMTTYPE=text/html:Enjoy the last walking tour of the season of Vermillion Falls Park\, which begins at the LeDuc Historic Estate.  Visitors will enjoy the natural beauty of the river and magnificent Vermillion Falls\, plus learn about the milling industry and how it contributed to the history of the City of Hastings. 
LOCATION:LeDuc Historic Estate and Vermillion Falls Park 1629 Vermillion Street\, Hastings\, MN 55033
UID:e.606.111977
SEQUENCE:3
DTSTAMP:20260425T111821Z
URL:https://www.hastingsmn.org/events/details/last-walking-tour-of-the-season-of-vermillion-falls-park-10-02-2010-111977
END:VEVENT

END:VCALENDAR
