BEGIN:VCALENDAR
VERSION:2.0
PRODID:-//ChamberMaster//Event Calendar 2.0//EN
METHOD:PUBLISH
X-PUBLISHED-TTL:P3D
REFRESH-INTERVAL:P3D
CALSCALE:GREGORIAN
BEGIN:VEVENT
DTSTART:20120204T200000Z
DTEND:20120204T220000Z
X-MICROSOFT-CDO-ALLDAYEVENT:FALSE
SUMMARY:Kick Off for Hastings Reads 2012
DESCRIPTION:The theme of this year's Hastings Reads is the Civil War.  The opening event will take place on Saturday\, February 4\, 2 p.m. with a presentation by middle school teacher and Civil War scholar\, Spencer Johnson\, who will speak on the topic\, "The Civil War: Why We Remember."  This event is free & open to the public.  Refreshments will be provided.
X-ALT-DESC;FMTTYPE=text/html:The theme of this year&#39\;s Hastings Reads is the Civil War. &nbsp\;The opening event will take place on Saturday\, February 4\, 2 p.m. with a presentation by middle school teacher and Civil War scholar\, Spencer Johnson\, who will speak on the topic\, &quot\;The Civil War: Why We Remember.&quot\; &nbsp\;This event is free &amp\; open to the public. &nbsp\;Refreshments will be provided.&nbsp\;
LOCATION:LeDuc Historic Estate 1629 Vermillion Street\, Hastings\, MN 55033
UID:e.606.113390
SEQUENCE:3
DTSTAMP:20260420T141315Z
URL:https://www.hastingsmn.org/events/details/kick-off-for-hastings-reads-2012-02-04-2012-113390
END:VEVENT

END:VCALENDAR
