BEGIN:VCALENDAR
VERSION:2.0
PRODID:-//ChamberMaster//Event Calendar 2.0//EN
METHOD:PUBLISH
X-PUBLISHED-TTL:P3D
REFRESH-INTERVAL:P3D
CALSCALE:GREGORIAN
BEGIN:VEVENT
DTSTART:20100515T140000Z
DTEND:20100515T170000Z
X-MICROSOFT-CDO-ALLDAYEVENT:FALSE
SUMMARY:Junior Needleworking at the LeDuc Historic Estate
DESCRIPTION:Hands-on class for children ages 8-12 where they will learn basic stitchery\, using the patterns of Hastings Needlework as designed by the LeDuc sisters.  Being taught by master needleworker\, Maggie Bowles\, the students will use Hastings Needlework patterns to create their own sampler.  Materials will be provided for taking home so they can keep on stitching.  A time for learning new skills & making new friends.
X-ALT-DESC;FMTTYPE=text/html:Hands-on class for children ages 8-12 where they will learn basic stitchery\, using the patterns of Hastings Needlework as designed by the LeDuc sisters.  Being taught by master needleworker\, Maggie Bowles\, the students will use Hastings Needlework patterns to create their own sampler.  Materials will be provided for taking home so they can keep on stitching.  A time for learning new skills &amp\; making new friends.
LOCATION:LeDuc Historic Estate\, 1629 Vermillion Street\, Hastings\, MN 55033
UID:e.606.111528
SEQUENCE:3
DTSTAMP:20260425T170555Z
URL:https://www.hastingsmn.org/events/details/junior-needleworking-at-the-leduc-historic-estate-05-15-2010-111528
END:VEVENT

END:VCALENDAR
