BEGIN:VCALENDAR
VERSION:2.0
PRODID:-//ChamberMaster//Event Calendar 2.0//EN
METHOD:PUBLISH
X-PUBLISHED-TTL:P3D
REFRESH-INTERVAL:P3D
CALSCALE:GREGORIAN
BEGIN:VEVENT
DTSTART:20101002T140000Z
DTEND:20101002T170000Z
X-MICROSOFT-CDO-ALLDAYEVENT:FALSE
SUMMARY:Junior Needle Working Class at the LeDuc Historic Estate
DESCRIPTION:Children ages 9-12 are encouraged to register for the Junior Needle Working Class.  Students' supplies will all be furnished and they will be using patterns created by the LeDuc sisters in their Hastings Needle Work Company.  Registration needs to be done by September 29\, 2010 and should be called in to Jessica @ 651-437-7055..Registration fee of $18 needs to be paid by check or credit card at that time.  Instructor Diana Langenfeld is a master needle worker herself.
X-ALT-DESC;FMTTYPE=text/html:Children ages 9-12 are encouraged to register for the Junior Needle Working Class.  Students' supplies will all be furnished and they will be using patterns created by the LeDuc sisters in their Hastings Needle Work Company.  Registration needs to be done by September 29\, 2010 and should be called in to Jessica @ 651-437-7055..Registration fee of $18 needs to be paid by check or credit card at that time.  Instructor Diana Langenfeld is a master needle worker herself.   
LOCATION:LeDuc Historic Estate 1629 Vermillion St.\, Hastings\, MN 55033
UID:e.606.111962
SEQUENCE:3
DTSTAMP:20260425T111534Z
URL:https://www.hastingsmn.org/events/details/junior-needle-working-class-at-the-leduc-historic-estate-10-02-2010-111962
END:VEVENT

END:VCALENDAR
