BEGIN:VCALENDAR
VERSION:2.0
PRODID:-//ChamberMaster//Event Calendar 2.0//EN
METHOD:PUBLISH
X-PUBLISHED-TTL:P3D
REFRESH-INTERVAL:P3D
CALSCALE:GREGORIAN
BEGIN:VEVENT
DTSTART:20100309T153000Z
DTEND:20100309T173000Z
X-MICROSOFT-CDO-ALLDAYEVENT:FALSE
SUMMARY:Job Transition S.O.S. Workshop
DESCRIPTION:Obtain valuable resources and information that you need to find your next job at this job transition workshop\, led by Amy Lindgren.  Ms. Lindgren has been a job strategist for 25 years and a nationally-syndicated employment columnist\, (sundays in the St. Paul Pioneer Press).  All attending receive a Pocket Job Series book written by Amy Lindgren.
X-ALT-DESC;FMTTYPE=text/html:<div>Obtain valuable resources and information that you need to find your next job at this job transition workshop\, led by Amy Lindgren.&nbsp\; Ms. Lindgren has been a job strategist for 25 years and a nationally-syndicated employment columnist\, (sundays in the St. Paul Pioneer Press).&nbsp\; All attending receive a Pocket Job Series book written by Amy Lindgren.</div>
LOCATION:Hastings City Hall2nd Floor101 4th St EHastings MN 55033
UID:e.606.111521
SEQUENCE:3
DTSTAMP:20260425T194917Z
URL:https://www.hastingsmn.org/events/details/job-transition-s-o-s-workshop-03-09-2010-111521
END:VEVENT

END:VCALENDAR
