BEGIN:VCALENDAR
VERSION:2.0
PRODID:-//ChamberMaster//Event Calendar 2.0//EN
METHOD:PUBLISH
X-PUBLISHED-TTL:P3D
REFRESH-INTERVAL:P3D
CALSCALE:GREGORIAN
BEGIN:VEVENT
DTSTART:20130502T140000Z
DTEND:20130502T160000Z
X-MICROSOFT-CDO-ALLDAYEVENT:FALSE
SUMMARY:Job Fair - Express Employment Professionals in Red Wing
DESCRIPTION:Hiring for the following areas:\n\n	- General Labor\n\n	- Production Assembly   - Customer Service\n\n	- Food Production            - Administrative\n\n	- Manufacturing                - Professional\n\n	Candidates needed for Red Wing\, Cannon Falls and Hastings\n\n	Hiring for All Shifts!\n\n	$100 Referral Bonus Available\n\n	Apply online at www.RedWingExpress.com or\n\n	Call 651-388-6331 for more information.
X-ALT-DESC;FMTTYPE=text/html:<div style="color: gray">\n	Hiring for the following areas:<br />\n	- General Labor<br />\n	- Production Assembly&nbsp\;&nbsp\; - Customer Service<br />\n	- Food Production&nbsp\;&nbsp\;&nbsp\;&nbsp\;&nbsp\;&nbsp\;&nbsp\;&nbsp\;&nbsp\;&nbsp\;&nbsp\; - Administrative<br />\n	- Manufacturing&nbsp\;&nbsp\;&nbsp\;&nbsp\;&nbsp\;&nbsp\;&nbsp\;&nbsp\;&nbsp\;&nbsp\;&nbsp\;&nbsp\;&nbsp\;&nbsp\;&nbsp\;&nbsp\;- Professional<br />\n	Candidates needed for Red Wing\, Cannon Falls and Hastings<br />\n	Hiring for All Shifts!<br />\n	$100 Referral Bonus Available<br />\n	Apply online at <a href="http://www.redwingexpress.com/" title="blocked::http://www.redwingexpress.com/">www.RedWingExpress.com</a> or<br />\n	Call 651-388-6331 for more information.</div>\n
LOCATION:Express Employment Professionals 910 Main Street Red Wing\, MN 55066
UID:e.606.113814
SEQUENCE:3
DTSTAMP:20260423T084327Z
URL:https://www.hastingsmn.org/events/details/job-fair-express-employment-professionals-in-red-wing-05-02-2013-113814
END:VEVENT

END:VCALENDAR
