BEGIN:VCALENDAR
VERSION:2.0
PRODID:-//ChamberMaster//Event Calendar 2.0//EN
METHOD:PUBLISH
X-PUBLISHED-TTL:P3D
REFRESH-INTERVAL:P3D
CALSCALE:GREGORIAN
BEGIN:VEVENT
DTSTART:20120826T183000Z
DTEND:20120826T213000Z
X-MICROSOFT-CDO-ALLDAYEVENT:FALSE
SUMMARY:Jazz in the Vineyard
DESCRIPTION:Enjoy their specially made Sangria available only during the Sunday Jazz events relaxing to the sounds of a local jazz group RAIN or SHINE!
X-ALT-DESC;FMTTYPE=text/html:<div>\n	<span style="font-family: verdana"><span style="font-size: 12px"><span style="font-size: 11px">Enjoy their specially made <strong><span style="color: black">Sangria</span></strong> available only during the <strong><span style="color: black">Sunday Jazz</span></strong> events relaxing to the sounds of a local jazz group <strong><span style="color: black">RAIN or SHINE</span></strong>!&nbsp\;&nbsp\;</span>&nbsp\;</span></span></div>
LOCATION:18200 Kirby AveHastings\, MN 55033
UID:e.606.113359
SEQUENCE:3
DTSTAMP:20260420T012655Z
URL:https://www.hastingsmn.org/events/details/jazz-in-the-vineyard-08-26-2012-113359
END:VEVENT

END:VCALENDAR
