BEGIN:VCALENDAR
VERSION:2.0
PRODID:-//ChamberMaster//Event Calendar 2.0//EN
METHOD:PUBLISH
X-PUBLISHED-TTL:P3D
REFRESH-INTERVAL:P3D
CALSCALE:GREGORIAN
BEGIN:VEVENT
DTSTART:20110717T183000Z
DTEND:20110717T213000Z
X-MICROSOFT-CDO-ALLDAYEVENT:FALSE
SUMMARY:Jazz in the Vineyard
DESCRIPTION:Jazz in the Vineyard at the Alexis Bailly Vineyard.  For a line up visit www.abvwines.com.
X-ALT-DESC;FMTTYPE=text/html:<div>Jazz in the Vineyard at the Alexis Bailly Vineyard.&nbsp\; For a line up visit <a href="http://www.abvwines.com">www.abvwines.com</a>.</div><div>&nbsp\;</div><div>&nbsp\;</div>
LOCATION:18200 Kirby AveHastings\, MN 55033
UID:e.606.112718
SEQUENCE:3
DTSTAMP:20260421T022525Z
URL:https://www.hastingsmn.org/events/details/jazz-in-the-vineyard-07-17-2011-112718
END:VEVENT

END:VCALENDAR
