BEGIN:VCALENDAR
VERSION:2.0
PRODID:-//ChamberMaster//Event Calendar 2.0//EN
METHOD:PUBLISH
X-PUBLISHED-TTL:P3D
REFRESH-INTERVAL:P3D
CALSCALE:GREGORIAN
BEGIN:VEVENT
DTSTART:20100711T183000Z
DTEND:20100711T213000Z
X-MICROSOFT-CDO-ALLDAYEVENT:FALSE
SUMMARY:Jazz in the Vineyard
DESCRIPTION:Jazz in the Vineyard at the Alexis Bailly Vineyard.  For a line up visit www.abvwines.com.
X-ALT-DESC;FMTTYPE=text/html:<div>Jazz in the Vineyard at the Alexis Bailly Vineyard.&nbsp\; For a line up visit <a href="http://www.abvwines.com">www.abvwines.com</a>.</div><div>&nbsp\;</div><div>&nbsp\;</div>
LOCATION:18200 Kirby AveHastings\, MN 55033
UID:e.606.111596
SEQUENCE:3
DTSTAMP:20260425T141219Z
URL:https://www.hastingsmn.org/events/details/jazz-in-the-vineyard-07-11-2010-111596
END:VEVENT

END:VCALENDAR
