BEGIN:VCALENDAR
VERSION:2.0
PRODID:-//ChamberMaster//Event Calendar 2.0//EN
METHOD:PUBLISH
X-PUBLISHED-TTL:P3D
REFRESH-INTERVAL:P3D
CALSCALE:GREGORIAN
BEGIN:VEVENT
DTSTART:20091121T003000Z
DTEND:20091121T040000Z
X-MICROSOFT-CDO-ALLDAYEVENT:FALSE
SUMMARY:Italian Dinner & Wine Tasting
DESCRIPTION:6-course dinner plus hors d'oeuvres pired with 6 outstanding wines of Northern Italy. Save by making your reservations by November 1 ~ $54.95 plus tax and 15% gratuity.  Reservations after November 1 ~ $59.95/person plus tax and 15% gratuity.  Special savings on hotel rooms also available.
X-ALT-DESC;FMTTYPE=text/html:6-course dinner plus hors d'oeuvres pired with 6 outstanding wines of Northern Italy. Save by making your reservations by November 1 ~ $54.95 plus tax and 15% gratuity.  Reservations after November 1 ~ $59.95/person plus tax and 15% gratuity.  Special savings on hotel rooms also available.
LOCATION:Afton House Inn 3291 S St. Croix Trail\, Afton MN 55001
UID:e.606.111233
SEQUENCE:3
DTSTAMP:20260426T025518Z
URL:https://www.hastingsmn.org/events/details/italian-dinner-wine-tasting-11-20-2009-111233
END:VEVENT

END:VCALENDAR
